BEGIN:VCALENDAR
VERSION:2.0
PRODID:-//Sabre//Sabre VObject 4.5.0//EN
CALSCALE:GREGORIAN
BEGIN:VEVENT
UID:sabre-vobject-050f0331-703a-4f76-8463-22dc74be9b0b
DTSTAMP:20260422T220706Z
LOCATION:stacjonarnie w Sali nr 220 w Instytucie Nauk Geologicznych UWr ora
 z zdalnie w aplikacji TEAMS
SUMMARY:Posiedzenie Naukowe Instytutu Nauk Geologicznych UWr
DESCRIPTION:Odczyt pt.: „Geotermometria ramanowska paleozoicznych skał 
 środkowej części bloku przedsudeckiego” wygłoszą dr Dawid Białek i
  dr Grzegorz Lis
DTSTART;VALUE=DATE-TIME:20260424T100000Z
DTEND;VALUE=DATE-TIME:20260424T120000Z
END:VEVENT
END:VCALENDAR
