BEGIN:VCALENDAR
VERSION:2.0
PRODID:-//Sabre//Sabre VObject 4.5.0//EN
CALSCALE:GREGORIAN
BEGIN:VEVENT
UID:sabre-vobject-5a74f002-63a2-4fb1-97d4-1b3ee6acde40
DTSTAMP:20260423T194321Z
LOCATION:stacjonarnie w Sali nr 220 w Instytucie Nauk Geologicznych UWr ora
 z zdalnie w aplikacji TEAMS
SUMMARY:Posiedzenie Naukowe Instytutu Nauk Geologicznych UWr
DESCRIPTION:Wykład „Emplacement of the Pindos ophiolite\, NW Greece: P-T
 -t-kinematic constraints from the metamorphic sole” wygłosi MSc. Dimitr
 ios Moutzouris Johannes Gutenberg University of Mainz\, Germany
DTSTART;VALUE=DATE-TIME:20260421T080000Z
DTEND;VALUE=DATE-TIME:20260421T100000Z
END:VEVENT
END:VCALENDAR
