BEGIN:VCALENDAR
VERSION:2.0
PRODID:-//Sabre//Sabre VObject 4.5.0//EN
CALSCALE:GREGORIAN
BEGIN:VEVENT
UID:sabre-vobject-72c75a3b-bd14-4a90-bc84-37a6024eb5c0
DTSTAMP:20260422T220706Z
LOCATION:pl. Uniwersytecki 1\; pl. Maksa Borna 9 ul. Uniwersytecka 7-10
SUMMARY:Drzwi otwarte &#8211\; geofakt\, nie fake\, czyli Dzień Ziemi na U
 niwersytecie Wrocławskim
DESCRIPTION:Serdecznie zapraszamy 22 kwietnia na Drzwi Otwarte Wydziału Na
 uk o Ziemi i Kształtowania Środowiska. Poniżej umieszczamy szczegółow
 y harmonogram wydarznia.
DTSTART;VALUE=DATE-TIME:20260422T080000Z
DTEND;VALUE=DATE-TIME:20260422T130000Z
END:VEVENT
END:VCALENDAR
