BEGIN:VCALENDAR
VERSION:2.0
PRODID:-//Sabre//Sabre VObject 4.5.0//EN
CALSCALE:GREGORIAN
BEGIN:VEVENT
UID:sabre-vobject-b20c3470-93ca-4873-b21f-fd98b702d424
DTSTAMP:20260423T194318Z
LOCATION:stacjonarnie w sali nr 220 w Instytucie Nauk Geologicznych UWr\, (
 Plac Maksa Borna 9\, Wrocław\, II piętro) oraz zdalnie w aplikacji TEAMS
 .
SUMMARY:Wykład otwarty prof. Henrika I. Petersena Geological Survey of Den
 mark and Greenland (GEUS) 
DESCRIPTION:
DTSTART;VALUE=DATE-TIME:20260414T080000Z
DTEND;VALUE=DATE-TIME:20260414T100000Z
END:VEVENT
END:VCALENDAR
