BEGIN:VCALENDAR
VERSION:2.0
PRODID:-//Sabre//Sabre VObject 4.5.0//EN
CALSCALE:GREGORIAN
BEGIN:VEVENT
UID:sabre-vobject-47c198e7-35c1-4d34-9382-cdd8341d89c2
DTSTAMP:20260423T232915Z
LOCATION:
SUMMARY:Geo-noc dla maturzystów!
DESCRIPTION:Naukowcy z naszego Wydziału pomogą Ci powtórzyć materiał z
  geologii i geografii przed egzaminem dojrzałości. 🗺️📚 Nie czeka
 jcie z nauką 😎 Uczestnictwo jest bezpłatne.
DTSTART;VALUE=DATE-TIME:20250404T130000Z
DTEND;VALUE=DATE-TIME:20250404T190000Z
END:VEVENT
END:VCALENDAR
