BEGIN:VCALENDAR
VERSION:2.0
PRODID:-//Sabre//Sabre VObject 4.5.0//EN
CALSCALE:GREGORIAN
BEGIN:VEVENT
UID:sabre-vobject-571f968f-a111-44e3-a0fe-cd7a7fd7ad0e
DTSTAMP:20260423T232911Z
LOCATION:
SUMMARY:Geo-noc dla maturzystów! vol2
DESCRIPTION:Naukowcy z naszego Wydziału pomogą Ci powtórzyć materiał z
  geologii i geografii przed egzaminem dojrzałości. 🗺️📚 Nie czeka
 jcie z nauką 😎 Uczestnictwo jest bezpłatne.
DTSTART;VALUE=DATE-TIME:20250411T130000Z
DTEND;VALUE=DATE-TIME:20250411T190000Z
END:VEVENT
END:VCALENDAR
