BEGIN:VCALENDAR
VERSION:2.0
PRODID:-//Sabre//Sabre VObject 4.5.0//EN
CALSCALE:GREGORIAN
BEGIN:VEVENT
UID:sabre-vobject-cb41df30-b3c5-4441-b09e-84a7e8c835a3
DTSTAMP:20260423T232921Z
LOCATION:
SUMMARY:Nabór do udziału w projekcie &#8222\;Proximity matters&#8221\;
DESCRIPTION:Poszukujemy studentów z kierunków: geografia\, gospodarka prz
 estrzenna\, turystyka.
DTSTART;VALUE=DATE-TIME:20240612T070000Z
DTEND;VALUE=DATE-TIME:20240701T210000Z
END:VEVENT
END:VCALENDAR
