BEGIN:VCALENDAR
VERSION:2.0
PRODID:-//Sabre//Sabre VObject 4.5.0//EN
CALSCALE:GREGORIAN
BEGIN:VEVENT
UID:sabre-vobject-f7ec4dba-48db-48f4-ba12-6b952b7ec8e0
DTSTAMP:20260424T025013Z
LOCATION:ul. Cybulskiego 30/32/38 \, ul. Fryderyka Joliot-Curie 12\, pl. Ma
 xa Borna 9\, pl. Uniwersytecki 1
SUMMARY:Drzwi otwarte „Kosmos zaczyna się na Ziemi”
DESCRIPTION:Zapraszamy na dni otwarte! Udział w wydarzeniu pozwoli nie tyl
 ko na zapoznanie się ze strukturą Uczelni\, ale również rozmowę z wyk
 ładowcami i przyszłymi znajomymi-studentami. Gry terenowe czy laboratori
 a molekularne to tylko niektóre z atrakcji\, które na Was czekają.
DTSTART;VALUE=DATE-TIME:20240412T080000Z
DTEND;VALUE=DATE-TIME:20240413T110000Z
END:VEVENT
END:VCALENDAR
