BEGIN:VCALENDAR
VERSION:2.0
PRODID:-//Sabre//Sabre VObject 4.5.0//EN
CALSCALE:GREGORIAN
BEGIN:VEVENT
UID:sabre-vobject-56ec7f15-42d5-4aa0-8ed2-4c71b756be8b
DTSTAMP:20260423T232918Z
LOCATION:Gmach Główny Uniwersytetu Wrocławskiego\, Instytut Geografii i 
 Rozwoju Regionalnego - sala 336
SUMMARY:Odczyty naukowe i popularnonaukowe IGRR i PTG
DESCRIPTION:Odczyty naukowe i popularnonaukowe
DTSTART;VALUE=DATE-TIME:20240115T140000Z
DTEND;VALUE=DATE-TIME:20240524T170000Z
END:VEVENT
END:VCALENDAR
