BEGIN:VCALENDAR
VERSION:2.0
PRODID:-//Sabre//Sabre VObject 4.5.0//EN
CALSCALE:GREGORIAN
BEGIN:VEVENT
UID:sabre-vobject-14f2ed8b-2703-4a48-9d8b-000553028c65
DTSTAMP:20260424T030618Z
LOCATION:UWr
SUMMARY:Inżynieria geologiczna &#8211\; rekrutacja na semestr letni 2023/2
 024.
DESCRIPTION:Rekrutacja zimowa na semestr letni roku akademickiego 2023/2024
 . 50 miejsc na inżynierii geologicznej czeka absolwentów i absolwentki k
 ierunków: inżynieria geologiczna\, środowiska lub stosowana\; geologia 
 stosowana\, technologie ochrony środowiska oraz geologia. Osoby\, które 
 skończyły inne kierunki\, przystępują do rozmowy kwalifikacyjnej.
DTSTART;VALUE=DATE-TIME:20240115T230000Z
DTEND;VALUE=DATE-TIME:20240211T230000Z
END:VEVENT
END:VCALENDAR
