BEGIN:VCALENDAR
VERSION:2.0
PRODID:-//Sabre//Sabre VObject 4.5.0//EN
CALSCALE:GREGORIAN
BEGIN:VEVENT
UID:sabre-vobject-7c52508d-d984-4ce4-8b40-7912a17ab8b6
DTSTAMP:20260424T030617Z
LOCATION:budynek Polskiej Akademii Umiejętności (Duża Aula\, II piętro)
  przy ul. Sławkowskiej 17 w Krakowie
SUMMARY:Konferencja &#8222\;Geośrodowisko – klimat\, przyroda\, człowie
 k&#8221\;
DESCRIPTION:Tak o wydarzeniu piszą jego organizatorzy: "Głównym celem ko
 nferencji naukowej "Geośrodowisko - Klimat\, Przyroda\, Człowiek" jest z
 aprezentowanie najnowszych osiągnięć badawczych oraz wymiana myśli nau
 kowej nad złożoną naturą geośrodowiska. Tematyka konferencji obejmuje
  szerokie spektrum zagadnień z geografii fizycznej."
DTSTART;VALUE=DATE:20240404
DTEND;VALUE=DATE:20240405
END:VEVENT
END:VCALENDAR
