BEGIN:VCALENDAR
VERSION:2.0
PRODID:-//Sabre//Sabre VObject 4.5.0//EN
CALSCALE:GREGORIAN
BEGIN:VEVENT
UID:sabre-vobject-1a905ed5-615e-4b53-94b9-4594470639c3
DTSTAMP:20260424T030614Z
LOCATION:Aula Leopoldyńska w gmachu głównym Uniwersytetu Wrocławskiego
SUMMARY:Immatrykulacja dla studentów i studentek Wydziału
DESCRIPTION:
DTSTART;VALUE=DATE-TIME:20230927T103000Z
DTEND;VALUE=DATE-TIME:20230927T123000Z
END:VEVENT
END:VCALENDAR
