BEGIN:VCALENDAR
VERSION:2.0
PRODID:-//Sabre//Sabre VObject 4.5.0//EN
CALSCALE:GREGORIAN
BEGIN:VEVENT
UID:sabre-vobject-dc24f343-476c-47bd-b8d9-ca714d900795
DTSTAMP:20260424T020828Z
LOCATION:Aula Leopoldyńska w gmachu głównym Uniwersytetu Wrocławskiego 
 przy placu Uniwersyteckim 1
SUMMARY:Środowiskowa inauguracja roku akademickiego
DESCRIPTION:Środowiskowa inauguracja roku akademickiego
DTSTART;VALUE=DATE:20231001
DTEND;VALUE=DATE:20231002
END:VEVENT
END:VCALENDAR
