BEGIN:VCALENDAR
VERSION:2.0
PRODID:-//Sabre//Sabre VObject 4.5.0//EN
CALSCALE:GREGORIAN
BEGIN:VEVENT
UID:sabre-vobject-35f5615d-bfb6-4707-988b-8c4bdf8a7cae
DTSTAMP:20260424T030620Z
LOCATION:Aula Leopoldyńska w gmachu głównym Uniwersytetu Wrocławskiego 
 przy placu Uniwersyteckim 1
SUMMARY:Inauguracja roku akademickiego 2023/2024
DESCRIPTION:Uroczysta Inauguracja Roku Akademickiego dla studentów i stude
 ntek pierwszego roku studiów na Uniwersytecie Wrocławskim.
DTSTART;VALUE=DATE-TIME:20231002T110000Z
DTEND;VALUE=DATE-TIME:20231002T123000Z
END:VEVENT
END:VCALENDAR
