BEGIN:VCALENDAR
VERSION:2.0
PRODID:-//Sabre//Sabre VObject 4.5.0//EN
CALSCALE:GREGORIAN
BEGIN:VEVENT
UID:sabre-vobject-85f503e6-1a88-4df5-bbcf-4d1189eb2c29
DTSTAMP:20260424T000122Z
LOCATION:MS Teams
SUMMARY:„Współczesne wyzwania prawa geologicznego i górniczego”
DESCRIPTION:
DTSTART;VALUE=DATE:20231020
DTEND;VALUE=DATE:20231021
END:VEVENT
END:VCALENDAR
