BEGIN:VCALENDAR
VERSION:2.0
PRODID:-//Sabre//Sabre VObject 4.5.0//EN
CALSCALE:GREGORIAN
BEGIN:VEVENT
UID:sabre-vobject-d088fef0-c1ef-4f88-9ff8-2d2fc7318c35
DTSTAMP:20260424T030614Z
LOCATION:Zakład Klimatologii i Ochrony Atmosfery UWr
SUMMARY:Warsztaty wprowadzające do pracy w środowisku R i RStudio
DESCRIPTION:Warsztaty "Analiza i wizualizacja danych w środowisku R"
DTSTART;VALUE=DATE:20230619
DTEND;VALUE=DATE:20230620
END:VEVENT
END:VCALENDAR
